BEGIN:VCALENDAR
VERSION:2.0
PRODID:-//The Kingsbridge Historical Society - ECPv6.15.20//NONSGML v1.0//EN
CALSCALE:GREGORIAN
METHOD:PUBLISH
X-ORIGINAL-URL:https://kingsbridgehistoricalsociety.org
X-WR-CALDESC:Events for The Kingsbridge Historical Society
REFRESH-INTERVAL;VALUE=DURATION:PT1H
X-Robots-Tag:noindex
X-PUBLISHED-TTL:PT1H
BEGIN:VTIMEZONE
TZID:America/Halifax
BEGIN:DAYLIGHT
TZOFFSETFROM:-0400
TZOFFSETTO:-0300
TZNAME:ADT
DTSTART:20240310T060000
END:DAYLIGHT
BEGIN:STANDARD
TZOFFSETFROM:-0300
TZOFFSETTO:-0400
TZNAME:AST
DTSTART:20241103T050000
END:STANDARD
BEGIN:DAYLIGHT
TZOFFSETFROM:-0400
TZOFFSETTO:-0300
TZNAME:ADT
DTSTART:20250309T060000
END:DAYLIGHT
BEGIN:STANDARD
TZOFFSETFROM:-0300
TZOFFSETTO:-0400
TZNAME:AST
DTSTART:20251102T050000
END:STANDARD
BEGIN:DAYLIGHT
TZOFFSETFROM:-0400
TZOFFSETTO:-0300
TZNAME:ADT
DTSTART:20260308T060000
END:DAYLIGHT
BEGIN:STANDARD
TZOFFSETFROM:-0300
TZOFFSETTO:-0400
TZNAME:AST
DTSTART:20261101T050000
END:STANDARD
END:VTIMEZONE
BEGIN:VEVENT
DTSTART;TZID=America/Halifax:20250424T190000
DTEND;TZID=America/Halifax:20250424T200000
DTSTAMP:20260425T182038
CREATED:20241123T223329Z
LAST-MODIFIED:20250121T154645Z
UID:10000023-1745521200-1745524800@kingsbridgehistoricalsociety.org
SUMMARY:The Boys of Kingsbridge - Film Screening
DESCRIPTION:The Kingsbridge Historical Society in association with Inwood Art Works presents a free screening of: The Boys of Kingsbridge.  Thursday April 24\, 2025 at Edgehill (2570 Independence Ave\, Bronx)\nFive friends from the same neighborhood in the NW Bronx grow up and go separate ways. Amazingly\, four of them came to be at the same place at the time on that fateful day in September 2001. Written\, Produced and Directed by Thom MacNamara\, the “5th unseen friend\,” The Boys of Kingsbridge is a compelling\, gritty and honest story of survival\, community\, and what selfless people do in a time of crisis. \nThe Kingsbridge Historical Society’s programs are made possible by the New York State Council on the Arts with the support of the Office of the Governor and the New York State Legislature.
URL:https://kingsbridgehistoricalsociety.org/event/the-boys-of-kingsbridge-film-screening/
LOCATION:Edgehill\, 2570 Independence Ave\, Bronx\, NY\, 10463
ATTACH;FMTTYPE=image/png:https://kingsbridgehistoricalsociety.org/wp-content/uploads/2024/11/2024.08.03-Graphics-for-emails.png
ORGANIZER;CN="Kingsbridge Historical Society":MAILTO:info@kingsbridgehistoricalsociety.org
END:VEVENT
END:VCALENDAR