BEGIN:VCALENDAR
VERSION:2.0
PRODID:-//The Kingsbridge Historical Society - ECPv6.15.20//NONSGML v1.0//EN
CALSCALE:GREGORIAN
METHOD:PUBLISH
X-WR-CALNAME:The Kingsbridge Historical Society
X-ORIGINAL-URL:https://kingsbridgehistoricalsociety.org
X-WR-CALDESC:Events for The Kingsbridge Historical Society
REFRESH-INTERVAL;VALUE=DURATION:PT1H
X-Robots-Tag:noindex
X-PUBLISHED-TTL:PT1H
BEGIN:VTIMEZONE
TZID:America/Halifax
BEGIN:DAYLIGHT
TZOFFSETFROM:-0400
TZOFFSETTO:-0300
TZNAME:ADT
DTSTART:20250309T060000
END:DAYLIGHT
BEGIN:STANDARD
TZOFFSETFROM:-0300
TZOFFSETTO:-0400
TZNAME:AST
DTSTART:20251102T050000
END:STANDARD
BEGIN:DAYLIGHT
TZOFFSETFROM:-0400
TZOFFSETTO:-0300
TZNAME:ADT
DTSTART:20260308T060000
END:DAYLIGHT
BEGIN:STANDARD
TZOFFSETFROM:-0300
TZOFFSETTO:-0400
TZNAME:AST
DTSTART:20261101T050000
END:STANDARD
BEGIN:DAYLIGHT
TZOFFSETFROM:-0400
TZOFFSETTO:-0300
TZNAME:ADT
DTSTART:20270314T060000
END:DAYLIGHT
BEGIN:STANDARD
TZOFFSETFROM:-0300
TZOFFSETTO:-0400
TZNAME:AST
DTSTART:20271107T050000
END:STANDARD
END:VTIMEZONE
BEGIN:VEVENT
DTSTART;TZID=America/Halifax:20260305T183000
DTEND;TZID=America/Halifax:20260305T200000
DTSTAMP:20260423T132046
CREATED:20260302T182707Z
LAST-MODIFIED:20260302T182833Z
UID:10000229-1772735400-1772740800@kingsbridgehistoricalsociety.org
SUMMARY:The Bronx 250th Tapestry - Art-Making Session
DESCRIPTION:WE WANT YOUR HELP!\nJoin KHS at Edgehill on Thursday and be a part of History\n(and join the fun!)\nJoin us for all four art-making sessions on:\nMarch 5\, 12\, 19\, and 26 from 6:30 to 8:00 PM\nJoin us at Edgehill for four Thursday evenings in March for a community art project: the “Bronx 250th Tapestry.” As an update to the bicentennial quilts that were sewn in our area in 1976\, this tapestry will represent our community\, historic events\, and landmarks. Only this time\, no needle or thread is required to contribute. Participants will work with teaching artist Tijay Mohammed and the KHS team to produce “squares\,” which will all be stitched together later to form the larger tapestry which will be displayed at different venues in the community and preserved for future generations. \nNo artistic or sewing experience is needed! You can choose to create art\, design\, or just help out with stitching–or you can do all of those components if you wish. \nIf you sign up\, you will come to four sessions at Edgehill on March 5th\, 12th\, 19th and 26th that will run from 6:30 PM to 8:00 PM. Please respond to this email to let us know if you would like to join. We have already been holding these sessions at RSS and the participants have been having a great time so come join in the fun! \n(When the tapestry squares are nearing completion we will also need volunteers that can sew so please let us know if you are interested in doing that). \nThis program is supported\, in part\, by public funds from the New York City Department of Cultural Affairs in partnership with the City Council. \nA group of seniors are helping out with the Tapestry at RSS and having a blast. Check out this Riverdale Press Article.
URL:https://kingsbridgehistoricalsociety.org/event/the-bronx-250th-tapestry-session-1/2026-03-05/
LOCATION:Edgehill\, 2570 Independence Ave\, Bronx\, NY\, 10463
ATTACH;FMTTYPE=image/png:https://kingsbridgehistoricalsociety.org/wp-content/uploads/2026/03/Screenshot-2026-03-02-115414.png
ORGANIZER;CN="Kingsbridge Historical Society":MAILTO:info@kingsbridgehistoricalsociety.org
END:VEVENT
END:VCALENDAR