BEGIN:VCALENDAR
VERSION:2.0
PRODID:-//The Kingsbridge Historical Society - ECPv6.15.20//NONSGML v1.0//EN
CALSCALE:GREGORIAN
METHOD:PUBLISH
X-ORIGINAL-URL:https://kingsbridgehistoricalsociety.org
X-WR-CALDESC:Events for The Kingsbridge Historical Society
REFRESH-INTERVAL;VALUE=DURATION:PT1H
X-Robots-Tag:noindex
X-PUBLISHED-TTL:PT1H
BEGIN:VTIMEZONE
TZID:America/Halifax
BEGIN:DAYLIGHT
TZOFFSETFROM:-0400
TZOFFSETTO:-0300
TZNAME:ADT
DTSTART:20250309T060000
END:DAYLIGHT
BEGIN:STANDARD
TZOFFSETFROM:-0300
TZOFFSETTO:-0400
TZNAME:AST
DTSTART:20251102T050000
END:STANDARD
BEGIN:DAYLIGHT
TZOFFSETFROM:-0400
TZOFFSETTO:-0300
TZNAME:ADT
DTSTART:20260308T060000
END:DAYLIGHT
BEGIN:STANDARD
TZOFFSETFROM:-0300
TZOFFSETTO:-0400
TZNAME:AST
DTSTART:20261101T050000
END:STANDARD
BEGIN:DAYLIGHT
TZOFFSETFROM:-0400
TZOFFSETTO:-0300
TZNAME:ADT
DTSTART:20270314T060000
END:DAYLIGHT
BEGIN:STANDARD
TZOFFSETFROM:-0300
TZOFFSETTO:-0400
TZNAME:AST
DTSTART:20271107T050000
END:STANDARD
END:VTIMEZONE
BEGIN:VEVENT
DTSTART;TZID=America/Halifax:20260322T140000
DTEND;TZID=America/Halifax:20260322T153000
DTSTAMP:20260423T132303
CREATED:20251115T143435Z
LAST-MODIFIED:20260310T174726Z
UID:10000225-1774188000-1774193400@kingsbridgehistoricalsociety.org
SUMMARY:Dramatic performance of "CATO: A Tragedy"
DESCRIPTION:Join us for a free performance of “Cato: A Tragedy” by Live History. This play\, written by British writer and politician Joseph Addison in 1712\, was among the most popular stage productions during the generation of America’s founding\, and multiple Founding Fathers\, including George Washington\, were inspired by the play’s dramatization of commitment to liberty in times of tyranny. \nThis performance is brought to you by the Kingsbridge Historical Society and co-sponsors Bronx County Historical Society and Van Cortlandt House Museum. \nReserve your ticket(s) HERE.\nThis is part of Bronx County Historical Society’s yearlong “America 250: The Bronx” programming to commemorate the 250th anniversary of the Declaration of Independence. \nMade possible with the support of New York State Assemblyman Jeffrey Dinowitz.  \nThis program is supported\, in part\, by public funds from the New York City Department of Cultural Affairs and the NYC Department of Youth and Community Development in partnership with the City Council. \nThe Kingsbridge Historical Society and VCHM’s programs are made possible by the New York State Council on the Arts with the support of the Office of the Governor and the New York State Legislature.
URL:https://kingsbridgehistoricalsociety.org/event/dramatic-performance-of-cato/
LOCATION:Edgehill\, 2570 Independence Ave\, Bronx\, NY\, 10463
ATTACH;FMTTYPE=image/png:https://kingsbridgehistoricalsociety.org/wp-content/uploads/2025/11/Cato-A-Tragedy-March-20262-scaled.png
ORGANIZER;CN="Kingsbridge Historical Society":MAILTO:info@kingsbridgehistoricalsociety.org
END:VEVENT
END:VCALENDAR