BEGIN:VCALENDAR
VERSION:2.0
PRODID:-//The Kingsbridge Historical Society - ECPv6.15.20//NONSGML v1.0//EN
CALSCALE:GREGORIAN
METHOD:PUBLISH
X-ORIGINAL-URL:https://kingsbridgehistoricalsociety.org
X-WR-CALDESC:Events for The Kingsbridge Historical Society
REFRESH-INTERVAL;VALUE=DURATION:PT1H
X-Robots-Tag:noindex
X-PUBLISHED-TTL:PT1H
BEGIN:VTIMEZONE
TZID:America/Halifax
BEGIN:DAYLIGHT
TZOFFSETFROM:-0400
TZOFFSETTO:-0300
TZNAME:ADT
DTSTART:20250309T060000
END:DAYLIGHT
BEGIN:STANDARD
TZOFFSETFROM:-0300
TZOFFSETTO:-0400
TZNAME:AST
DTSTART:20251102T050000
END:STANDARD
BEGIN:DAYLIGHT
TZOFFSETFROM:-0400
TZOFFSETTO:-0300
TZNAME:ADT
DTSTART:20260308T060000
END:DAYLIGHT
BEGIN:STANDARD
TZOFFSETFROM:-0300
TZOFFSETTO:-0400
TZNAME:AST
DTSTART:20261101T050000
END:STANDARD
BEGIN:DAYLIGHT
TZOFFSETFROM:-0400
TZOFFSETTO:-0300
TZNAME:ADT
DTSTART:20270314T060000
END:DAYLIGHT
BEGIN:STANDARD
TZOFFSETFROM:-0300
TZOFFSETTO:-0400
TZNAME:AST
DTSTART:20271107T050000
END:STANDARD
END:VTIMEZONE
BEGIN:VEVENT
DTSTART;TZID=America/Halifax:20260502T120000
DTEND;TZID=America/Halifax:20260502T160000
DTSTAMP:20260423T115140
CREATED:20260412T122613Z
LAST-MODIFIED:20260412T122613Z
UID:10000314-1777723200-1777737600@kingsbridgehistoricalsociety.org
SUMMARY:Pinkster Festival in Van Cortlandt Park
DESCRIPTION:Pinkster Festival!\nNew York’s First African American Celebration\nSaturday\, May 2\, 2026 • 12 PM to 4 PM • FREE!\nVan Cortlandt House Museum Lawn\nOnce a major holiday in 17th century New York\, Pinkster is the Dutch name for the Christian event of Pentecost. For enslaved and free people of African descent\, Pinkster morphed into a unique holiday that incorporated African rituals\, traditions\, and pride. It is considered New York’s first African American holiday! \n12 PM Tours\n1 PM Live Music\n2 PM Storytelling\n3 PM The Story of Pinkster\n4 PM Libations at the Enslaved African Burial Ground \nFeaturing: \n• Chief Baba Neil Clarke\, Master Percussionist\n• The Pinkster Players\n• April Armstrong\, Master Storyteller\n• Tijay Mohammed\, Artist\nPLUS: Food for sale! Art-making! \nThis program is supported\, in part\, by public funds from the New York City Department of Cultural Affairs and the NYC Department of Youth and Community Development in partnership with the City Council. \nThe Kingsbridge Historical Society and VCHM’s programs are made possible by the New York State Council on the Arts with the support of the Office of the Governor and the New York State Legislature.
URL:https://kingsbridgehistoricalsociety.org/event/pinkster-festival-in-van-cortlandt-park/
LOCATION:Van Cortlandt House Museum\, 6036 Broadway\, Bronx\, NY\, 10471
ATTACH;FMTTYPE=image/png:https://kingsbridgehistoricalsociety.org/wp-content/uploads/2026/04/Pinkster.flyer_.2026-scaled.png
ORGANIZER;CN="Kingsbridge Historical Society":MAILTO:info@kingsbridgehistoricalsociety.org
END:VEVENT
END:VCALENDAR