BEGIN:VCALENDAR
VERSION:2.0
PRODID:-//The Kingsbridge Historical Society - ECPv6.15.20//NONSGML v1.0//EN
CALSCALE:GREGORIAN
METHOD:PUBLISH
X-WR-CALNAME:The Kingsbridge Historical Society
X-ORIGINAL-URL:https://kingsbridgehistoricalsociety.org
X-WR-CALDESC:Events for The Kingsbridge Historical Society
REFRESH-INTERVAL;VALUE=DURATION:PT1H
X-Robots-Tag:noindex
X-PUBLISHED-TTL:PT1H
BEGIN:VTIMEZONE
TZID:America/Halifax
BEGIN:DAYLIGHT
TZOFFSETFROM:-0400
TZOFFSETTO:-0300
TZNAME:ADT
DTSTART:20230312T060000
END:DAYLIGHT
BEGIN:STANDARD
TZOFFSETFROM:-0300
TZOFFSETTO:-0400
TZNAME:AST
DTSTART:20231105T050000
END:STANDARD
BEGIN:DAYLIGHT
TZOFFSETFROM:-0400
TZOFFSETTO:-0300
TZNAME:ADT
DTSTART:20240310T060000
END:DAYLIGHT
BEGIN:STANDARD
TZOFFSETFROM:-0300
TZOFFSETTO:-0400
TZNAME:AST
DTSTART:20241103T050000
END:STANDARD
BEGIN:DAYLIGHT
TZOFFSETFROM:-0400
TZOFFSETTO:-0300
TZNAME:ADT
DTSTART:20250309T060000
END:DAYLIGHT
BEGIN:STANDARD
TZOFFSETFROM:-0300
TZOFFSETTO:-0400
TZNAME:AST
DTSTART:20251102T050000
END:STANDARD
END:VTIMEZONE
BEGIN:VEVENT
DTSTART;TZID=America/Halifax:20240509T190000
DTEND;TZID=America/Halifax:20240509T200000
DTSTAMP:20260424T043107
CREATED:20240422T210006Z
LAST-MODIFIED:20240422T210233Z
UID:10000002-1715281200-1715284800@kingsbridgehistoricalsociety.org
SUMMARY:Daniel Hauben in Kingsbridge and Riverdale: Artist Retrospective
DESCRIPTION:Daniel Hauben lives in the Kingsbridge apartment he moved into with his parents in 1965\, when he was nine years old.  His earliest cityscapes depicted the view from his window\, facing west across the Major Deegan\, and up the hill to Riverdale. \nMr. Hauben has explored the world near and far\, in paint\, and has come back again and again and again to paint the neighborhood he knows best. \nCome enjoy this retrospective presentation by Daniel Hauben of his art of Kingsbridge and Riverdale. \n  \n \n 
URL:https://kingsbridgehistoricalsociety.org/event/danny-hauben-in-kingsbridge-and-riverdale-artist-retrospective/
LOCATION:Edgehill\, 2570 Independence Ave\, Bronx\, NY\, 10463
CATEGORIES:Art and Artists
ATTACH;FMTTYPE=image/png:https://kingsbridgehistoricalsociety.org/wp-content/uploads/2024/04/hauben-thumbnail.png
ORGANIZER;CN="Kingsbridge Historical Society":MAILTO:info@kingsbridgehistoricalsociety.org
END:VEVENT
END:VCALENDAR