BEGIN:VCALENDAR
VERSION:2.0
PRODID:-//The Kingsbridge Historical Society - ECPv6.15.20//NONSGML v1.0//EN
CALSCALE:GREGORIAN
METHOD:PUBLISH
X-WR-CALNAME:The Kingsbridge Historical Society
X-ORIGINAL-URL:https://kingsbridgehistoricalsociety.org
X-WR-CALDESC:Events for The Kingsbridge Historical Society
REFRESH-INTERVAL;VALUE=DURATION:PT1H
X-Robots-Tag:noindex
X-PUBLISHED-TTL:PT1H
BEGIN:VTIMEZONE
TZID:America/Halifax
BEGIN:DAYLIGHT
TZOFFSETFROM:-0400
TZOFFSETTO:-0300
TZNAME:ADT
DTSTART:20240310T060000
END:DAYLIGHT
BEGIN:STANDARD
TZOFFSETFROM:-0300
TZOFFSETTO:-0400
TZNAME:AST
DTSTART:20241103T050000
END:STANDARD
BEGIN:DAYLIGHT
TZOFFSETFROM:-0400
TZOFFSETTO:-0300
TZNAME:ADT
DTSTART:20250309T060000
END:DAYLIGHT
BEGIN:STANDARD
TZOFFSETFROM:-0300
TZOFFSETTO:-0400
TZNAME:AST
DTSTART:20251102T050000
END:STANDARD
BEGIN:DAYLIGHT
TZOFFSETFROM:-0400
TZOFFSETTO:-0300
TZNAME:ADT
DTSTART:20260308T060000
END:DAYLIGHT
BEGIN:STANDARD
TZOFFSETFROM:-0300
TZOFFSETTO:-0400
TZNAME:AST
DTSTART:20261101T050000
END:STANDARD
END:VTIMEZONE
BEGIN:VEVENT
DTSTART;TZID=America/Halifax:20250608T110000
DTEND;TZID=America/Halifax:20250608T160000
DTSTAMP:20260425T141122
CREATED:20250421T205817Z
LAST-MODIFIED:20250528T203527Z
UID:10000031-1749380400-1749398400@kingsbridgehistoricalsociety.org
SUMMARY:Kingsbridge Remembers the American Revolution - Exhibit Opening
DESCRIPTION:1775 Marks the 250th anniversary of the start of the most dramatic 8 years in the history of Riverdale\, Kingsbridge\, Spuyten Duyvil\, Marble Hill and Inwood.  George Washington\, French nobility\, enslaved people\, a Lenape Chief\, common farmers\, and many more shaped the history of our nation right here.  The Bronx streets of today were once a battlefield\, but also the homeland of local residents who faced difficult choices and nearly impossible circumstances. \nKingsbridge Remembers the American Revolution is an exhibit and series of public programs that will shed light on local events of the Revolution and place them in a larger context.  The exhibit features original period artifacts\, artwork\, maps\, digital displays\, and interpretive panels that will bring that period to life.  It will change the way you look at the neighborhood and reveal its amazing past. \nArtifacts from the archives of local institutions are pulled together for the first time–some of which have never been displayed before.  Rarely seen commemorative artwork from the bicentennial compliments newly commissioned artwork by award-winning historical illustrator (and Bronx resident) Gary Zaboly.  Interpretive panels featuring new research and findings tell an inclusive story about the people\, places\, and events that made Kingsbridge important during the Revolution.  A digital interactive map display helps make sense of the area’s geographic importance.  A translated guide to the exhibit will be available in Spanish. \nThe exhibit opens June 8\, 2025 and remains open every Sunday\, Monday\, and Tuesday in June thereafter from 11:00 AM to 4:00 PM.  Evening open hours and summer hours will be announced later in June. \nThis program is supported\, in part\, by public funds from the New York City Department of Cultural Affairs in partnership with the City Council. \nThe Kingsbridge Historical Society’s programs are made possible by the New York State Council on the Arts with the support of the Office of the Governor and the New York State Legislature.
URL:https://kingsbridgehistoricalsociety.org/event/kingsbridge-remembers-250-exhibit-opening/
LOCATION:Edgehill\, 2570 Independence Ave\, Bronx\, NY\, 10463
ATTACH;FMTTYPE=image/png:https://kingsbridgehistoricalsociety.org/wp-content/uploads/2025/04/2024.08.03-Graphics-for-emails.png
ORGANIZER;CN="Kingsbridge Historical Society":MAILTO:info@kingsbridgehistoricalsociety.org
END:VEVENT
BEGIN:VEVENT
DTSTART;TZID=America/Halifax:20250609T110000
DTEND;TZID=America/Halifax:20250609T160000
DTSTAMP:20260425T141122
CREATED:20250619T174306Z
LAST-MODIFIED:20250619T174306Z
UID:10000033-1749466800-1749484800@kingsbridgehistoricalsociety.org
SUMMARY:Kingsbridge Remembers the American Revolution - Exhibit Open Hours
DESCRIPTION:1775 Marks the 250th anniversary of the start of the most dramatic 8 years in the history of Riverdale\, Kingsbridge\, Spuyten Duyvil\, Marble Hill and Inwood.  George Washington\, French nobility\, enslaved people\, a Lenape Chief\, common farmers\, and many more shaped the history of our nation right here.  The Bronx streets of today were once a battlefield\, but also the homeland of local residents who faced difficult choices and nearly impossible circumstances. \nKingsbridge Remembers the American Revolution is an exhibit and series of public programs that will shed light on local events of the Revolution and place them in a larger context.  The exhibit features original period artifacts\, artwork\, maps\, digital displays\, and interpretive panels that will bring that period to life.  It will change the way you look at the neighborhood and reveal its amazing past. \nArtifacts from the archives of local institutions are pulled together for the first time–some of which have never been displayed before.  Rarely seen commemorative artwork from the bicentennial compliments newly commissioned artwork by award-winning historical illustrator (and Bronx resident) Gary Zaboly.  Interpretive panels featuring new research and findings tell an inclusive story about the people\, places\, and events that made Kingsbridge important during the Revolution.  A digital interactive map display helps make sense of the area’s geographic importance.  A translated guide to the exhibit will be available in Spanish. \nThe exhibit opens June 8\, 2025 and remains open every Sunday\, Monday\, and Tuesday in June thereafter from 11:00 AM to 4:00 PM.  Evening open hours and summer hours will be announced later in June. \nThis program is supported\, in part\, by public funds from the New York City Department of Cultural Affairs in partnership with the City Council. \nThe Kingsbridge Historical Society’s programs are made possible by the New York State Council on the Arts with the support of the Office of the Governor and the New York State Legislature.
URL:https://kingsbridgehistoricalsociety.org/event/kingsbridge-remembers-the-american-revolution-exhibit-open-hours-2/
LOCATION:Edgehill\, 2570 Independence Ave\, Bronx\, NY\, 10463
ATTACH;FMTTYPE=image/png:https://kingsbridgehistoricalsociety.org/wp-content/uploads/2025/04/2024.08.03-Graphics-for-emails.png
ORGANIZER;CN="Kingsbridge Historical Society":MAILTO:info@kingsbridgehistoricalsociety.org
END:VEVENT
BEGIN:VEVENT
DTSTART;TZID=America/Halifax:20250612T190000
DTEND;TZID=America/Halifax:20250612T200000
DTSTAMP:20260425T141122
CREATED:20250531T141732Z
LAST-MODIFIED:20250611T102038Z
UID:10000200-1749754800-1749758400@kingsbridgehistoricalsociety.org
SUMMARY:Picturing the Past: A Conversation with Bronx Artist Gary Zaboly
DESCRIPTION:This year the Kingsbridge Historical Society has been thrilled to work with Bronx artist/illustrator Gary Zaboly to craft depictions of people and places in our neighborhood during the American Revolution for our “Kingsbridge Remembers” exhibit.  We have been mining historical maps and records to imagine scenes that have never been depicted before: \nThe local militia company mustered in Kingsbridge in August of 1775. Pen and Ink\, Gary Zaboly\, 2025.\nJoin us for a conversation about this project with Gary Zaboly at the Kingsbridge Historical Society on Thursday\, June 12th at 7 PM.  This event will be held in person but also live-streamed over Zoom (check back here for Zoom details). \nZoom Link: https://us06web.zoom.us/j/86573517661\nBronx artist\, Gary Zaboly\, and Kingsbridge Historical Society President\, Nick Dembowski\, will discuss the process of creating accurate depictions of the people and landscapes of the northwest Bronx and upper Manhattan during the Revolution. Gary Zaboly will talk about the complexities of imagining a landscape obscured by hundreds of years of change and urbanization. These pictures say a lot more than 1\,000 words! \nGary Zaboly\nGary Zaboly was born and raised in New York City and lives in Spuyten Duyvil.  He is an award-winning author\, artist\, and illustrator.  His work has been featured/exhibited in countless publications and places including The Alamo\, the Fort Ticonderoga Museum\, the Custer Battlefield Museum\, and in the collections of Texas Congressman Charlie Wilson and the singer\, Phil Collins! \nThis program is supported\, in part\, by public funds from the New York City Department of Cultural Affairs in partnership with the City Council. \nThe Kingsbridge Historical Society’s programs are made possible by the New York State Council on the Arts with the support of the Office of the Governor and the New York State Legislature.
URL:https://kingsbridgehistoricalsociety.org/event/picturing-the-past-a-conversation-with-bronx-artist-gary-zaboly/
LOCATION:Edgehill\, 2570 Independence Ave\, Bronx\, NY\, 10463
ATTACH;FMTTYPE=image/png:https://kingsbridgehistoricalsociety.org/wp-content/uploads/2025/05/zaboly-poster-for-talk.png
ORGANIZER;CN="Kingsbridge Historical Society":MAILTO:info@kingsbridgehistoricalsociety.org
END:VEVENT
BEGIN:VEVENT
DTSTART;TZID=America/Halifax:20250622T110000
DTEND;TZID=America/Halifax:20250622T160000
DTSTAMP:20260425T141122
CREATED:20250619T174834Z
LAST-MODIFIED:20250818T191934Z
UID:10000038-1750590000-1750608000@kingsbridgehistoricalsociety.org
SUMMARY:Kingsbridge Remembers the American Revolution - Exhibit Open Hours
DESCRIPTION:1775 Marks the 250th anniversary of the start of the most dramatic 8 years in the history of Riverdale\, Kingsbridge\, Spuyten Duyvil\, Marble Hill and Inwood.  George Washington\, French nobility\, enslaved people\, a Lenape Chief\, common farmers\, and many more shaped the history of our nation right here.  The Bronx streets of today were once a battlefield\, but also the homeland of local residents who faced difficult choices and nearly impossible circumstances. \nKingsbridge Remembers the American Revolution is an exhibit and series of public programs that will shed light on local events of the Revolution and place them in a larger context.  The exhibit features original period artifacts\, artwork\, maps\, digital displays\, and interpretive panels that will bring that period to life.  It will change the way you look at the neighborhood and reveal its amazing past. \nArtifacts from the archives of local institutions are pulled together for the first time–some of which have never been displayed before.  Rarely seen commemorative artwork from the bicentennial compliments newly commissioned artwork by award-winning historical illustrator (and Bronx resident) Gary Zaboly.  Interpretive panels featuring new research and findings tell an inclusive story about the people\, places\, and events that made Kingsbridge important during the Revolution.  A digital interactive map display helps make sense of the area’s geographic importance.  A translated guide to the exhibit will be available in Spanish. \nThe exhibit opens June 8\, 2025 and remains open every Sunday\, Monday\, and Tuesday in June thereafter from 11:00 AM to 4:00 PM.  Evening open hours and summer hours will be announced later in June. \nThis program is supported\, in part\, by public funds from the New York City Department of Cultural Affairs in partnership with the City Council. \nThe Kingsbridge Historical Society’s programs are made possible by the New York State Council on the Arts with the support of the Office of the Governor and the New York State Legislature.
URL:https://kingsbridgehistoricalsociety.org/event/kingsbridge-remembers-the-american-revolution-exhibit-open-hours-3/2025-06-22/
LOCATION:Edgehill\, 2570 Independence Ave\, Bronx\, NY\, 10463
ATTACH;FMTTYPE=image/png:https://kingsbridgehistoricalsociety.org/wp-content/uploads/2025/04/2024.08.03-Graphics-for-emails.png
ORGANIZER;CN="Kingsbridge Historical Society":MAILTO:info@kingsbridgehistoricalsociety.org
END:VEVENT
BEGIN:VEVENT
DTSTART;TZID=America/Halifax:20250627T190000
DTEND;TZID=America/Halifax:20250627T200000
DTSTAMP:20260425T141122
CREATED:20250622T120303Z
LAST-MODIFIED:20250622T120347Z
UID:10000205-1751050800-1751054400@kingsbridgehistoricalsociety.org
SUMMARY:A REVOLUTION OF HER OWN!
DESCRIPTION:FRIDAY JUNE 27 @ 7 PM \n2570 INDEPENDENCE AVE\, BRONX \nGET YOUR FREE TICKETS HERE. \nDeborah Sampson\, the first woman to fight in and be honorably discharged from the American Military\, captivates audiences in an Immersive Living History Experience chronicling her life. An indentured servant by age five\, Deborah grew up in a man’s world\, where women were naught but second-class citizens. As a self-educated\, masterless woman\, she felt a higher calling\, and in the final years of the American Revolution\, Deborah bound her chest\, tied back her hair\, and enlisted in the 4th Massachusetts Regiment of the Continental Army as “Robert Shurtlieff.” \n“A Revolution of Her Own!” was created by award-winning playwright\, Judith Kalaora\, who performs as Deborah Sampson. Having been performed nearly 2\,500 times\, the award-winning living history experience is internationally renowned\, was thrice named one of the Top 7 Things to Do in NYC\, and received a standing ovation Off-Broadway\, in the United Solo Theatre Festival\, 42nd St\, NYC. \nContains simulated violence. Viewer discretion is advised. Suitable for all ages.Running Time: 60 minutes\, followed by Q&A.
URL:https://kingsbridgehistoricalsociety.org/event/a-revolution-of-her-own/
LOCATION:Edgehill\, 2570 Independence Ave\, Bronx\, NY\, 10463
ATTACH;FMTTYPE=image/png:https://kingsbridgehistoricalsociety.org/wp-content/uploads/2025/06/Screenshot-2025-06-22-075949.png
ORGANIZER;CN="Kingsbridge Historical Society":MAILTO:info@kingsbridgehistoricalsociety.org
END:VEVENT
BEGIN:VEVENT
DTSTART;TZID=America/Halifax:20250630T183000
DTEND;TZID=America/Halifax:20250630T203000
DTSTAMP:20260425T141122
CREATED:20250625T120906Z
LAST-MODIFIED:20250625T121416Z
UID:10000206-1751308200-1751315400@kingsbridgehistoricalsociety.org
SUMMARY:Evening Open Hours and Guided Exhibit Tour
DESCRIPTION:We will be open in the evening this Monday (6:30 to 8:30) to give everyone a chance to see our new exhibit on the American Revolution.  Come at 7:00 PM to join a guided tour of the exhibit led by curator Nick Dembowski.  The tour will be a great opportunity to ask questions and get into conversations about the Revolution in our area. \n\n1775 Marks the 250th anniversary of the start of the most dramatic 8 years in the history of Riverdale\, Kingsbridge\, Spuyten Duyvil\, Marble Hill and Inwood.  George Washington\, French nobility\, enslaved people\, a Lenape Chief\, common farmers\, and many more shaped the history of our nation right here.  The Bronx streets of today were once a battlefield\, but also the homeland of local residents who faced difficult choices and nearly impossible circumstances. \nKingsbridge Remembers the American Revolution is an exhibit and series of public programs that will shed light on local events of the Revolution and place them in a larger context.  The exhibit features original period artifacts\, artwork\, maps\, digital displays\, and interpretive panels that will bring that period to life.  It will change the way you look at the neighborhood and reveal its amazing past. \nArtifacts from the archives of local institutions are pulled together for the first time–some of which have never been displayed before.  Rarely seen commemorative artwork from the bicentennial compliments newly commissioned artwork by award-winning historical illustrator (and Bronx resident) Gary Zaboly.  Interpretive panels featuring new research and findings tell an inclusive story about the people\, places\, and events that made Kingsbridge important during the Revolution.  A digital interactive map display helps make sense of the area’s geographic importance.  A translated guide to the exhibit will be available in Spanish. \nThe exhibit opens June 8\, 2025 and remains open every Sunday\, Monday\, and Tuesday in June thereafter from 11:00 AM to 4:00 PM.  Evening open hours and summer hours will be announced later in June. \nThis program is supported\, in part\, by public funds from the New York City Department of Cultural Affairs in partnership with the City Council. \nThe Kingsbridge Historical Society’s programs are made possible by the New York State Council on the Arts with the support of the Office of the Governor and the New York State Legislature.
URL:https://kingsbridgehistoricalsociety.org/event/evening-open-hours-and-guided-exhibit-tour/
LOCATION:Edgehill\, 2570 Independence Ave\, Bronx\, NY\, 10463
ATTACH;FMTTYPE=image/png:https://kingsbridgehistoricalsociety.org/wp-content/uploads/2025/04/2024.08.03-Graphics-for-emails.png
ORGANIZER;CN="Kingsbridge Historical Society":MAILTO:info@kingsbridgehistoricalsociety.org
END:VEVENT
END:VCALENDAR